BEGIN:VCALENDAR
PRODID:-//eluceo/ical//2.0/EN
VERSION:2.0
CALSCALE:GREGORIAN
BEGIN:VEVENT
UID:664ebd6998b59da7152f29c410a25685
DTSTAMP:20260421T040315Z
SUMMARY:Bieler Monatstreff
DESCRIPTION:
URL:https://rotary-nidau.ch/es/agenda/show/13105
DTSTART;TZID=Europe/Zurich:20100106T180000
DTEND;TZID=Europe/Zurich:20100106T180000
LOCATION:Restaurant Palace
CATEGORIES:Rotary
END:VEVENT
BEGIN:VTIMEZONE
TZID:Europe/Zurich
BEGIN:STANDARD
DTSTART:20100106T180000
TZNAME:CET
TZOFFSETTO:+0100
TZOFFSETFROM:+0100
END:STANDARD
END:VTIMEZONE
END:VCALENDAR
