BEGIN:VCALENDAR
PRODID:-//eluceo/ical//2.0/EN
VERSION:2.0
CALSCALE:GREGORIAN
BEGIN:VEVENT
UID:89e871339742239276f256e2c8bcb519
DTSTAMP:20260423T093625Z
SUMMARY:Plauderlunch
DESCRIPTION:
URL:https://rotary-nidau.ch/es/agenda/show/13104
DTSTART;TZID=Europe/Zurich:20100105T115000
DTEND;TZID=Europe/Zurich:20100105T115000
LOCATION:Restaurant / Hotel Worbenbad
CATEGORIES:Rotary
END:VEVENT
BEGIN:VTIMEZONE
TZID:Europe/Zurich
BEGIN:STANDARD
DTSTART:20100105T115000
TZNAME:CET
TZOFFSETTO:+0100
TZOFFSETFROM:+0100
END:STANDARD
END:VTIMEZONE
END:VCALENDAR
