BEGIN:VCALENDAR
PRODID:-//eluceo/ical//2.0/EN
VERSION:2.0
CALSCALE:GREGORIAN
BEGIN:VEVENT
UID:ef1a8ed4fe8c8ad06601b2fd46ddc32e
DTSTAMP:20260421T031550Z
SUMMARY:Jahresend-Jass
DESCRIPTION:
URL:https://rotary-nidau.ch/es/agenda/show/12834
DTSTART;TZID=Europe/Zurich:20091229T115000
DTEND;TZID=Europe/Zurich:20091229T115000
LOCATION:Restaurant / Hotel Florida
CATEGORIES:Rotary
END:VEVENT
BEGIN:VTIMEZONE
TZID:Europe/Zurich
BEGIN:STANDARD
DTSTART:20091229T115000
TZNAME:CET
TZOFFSETTO:+0100
TZOFFSETFROM:+0100
END:STANDARD
END:VTIMEZONE
END:VCALENDAR
