BEGIN:VCALENDAR
PRODID:-//eluceo/ical//2.0/EN
VERSION:2.0
CALSCALE:GREGORIAN
BEGIN:VEVENT
UID:506e6456e6799623e63be3ba14802170
DTSTAMP:20260421T025034Z
SUMMARY:Präsenzlunch
DESCRIPTION:
URL:https://rotary-nidau.ch/es/agenda/show/12830
DTSTART;TZID=Europe/Zurich:20091215T115000
DTEND;TZID=Europe/Zurich:20091215T115000
LOCATION:Restaurant / Hotel Worbenbad
CATEGORIES:Rotary
END:VEVENT
BEGIN:VTIMEZONE
TZID:Europe/Zurich
BEGIN:STANDARD
DTSTART:20091215T115000
TZNAME:CET
TZOFFSETTO:+0100
TZOFFSETFROM:+0100
END:STANDARD
END:VTIMEZONE
END:VCALENDAR
