BEGIN:VCALENDAR
PRODID:-//eluceo/ical//2.0/EN
VERSION:2.0
CALSCALE:GREGORIAN
BEGIN:VEVENT
UID:99101b2e1470849cccf3feaee1166c4f
DTSTAMP:20260423T092923Z
SUMMARY:Minex-Jass
DESCRIPTION:Partneranlass
URL:https://rotary-nidau.ch/es/agenda/show/12712
DTSTART;TZID=Europe/Zurich:20091106T000000
DTEND;TZID=Europe/Zurich:20091106T000000
LOCATION:Gemäss separatem Programm
CATEGORIES:Rotary
END:VEVENT
BEGIN:VTIMEZONE
TZID:Europe/Zurich
BEGIN:STANDARD
DTSTART:20091106T000000
TZNAME:CET
TZOFFSETTO:+0100
TZOFFSETFROM:+0100
END:STANDARD
END:VTIMEZONE
END:VCALENDAR
