BEGIN:VCALENDAR
PRODID:-//eluceo/ical//2.0/EN
VERSION:2.0
CALSCALE:GREGORIAN
BEGIN:VEVENT
UID:21e3c3c12f9e1d51ae35236666d3b204
DTSTAMP:20260421T014150Z
SUMMARY:Plauderlunch
DESCRIPTION:
URL:https://rotary-nidau.ch/es/agenda/show/12557
DTSTART;TZID=Europe/Zurich:20091027T115000
DTEND;TZID=Europe/Zurich:20091027T115000
LOCATION:Restaurant / Hotel Worbenbad
CATEGORIES:Rotary
END:VEVENT
BEGIN:VTIMEZONE
TZID:Europe/Zurich
BEGIN:STANDARD
DTSTART:20091027T115000
TZNAME:CET
TZOFFSETTO:+0100
TZOFFSETFROM:+0100
END:STANDARD
END:VTIMEZONE
END:VCALENDAR
