BEGIN:VCALENDAR
PRODID:-//eluceo/ical//2.0/EN
VERSION:2.0
CALSCALE:GREGORIAN
BEGIN:VEVENT
UID:0fd88172abbf032c7329f9441c627d40
DTSTAMP:20260423T093213Z
SUMMARY:Unterhaltsarbeiten  Petinesca
DESCRIPTION:Gemäss separatem Programm
URL:https://rotary-nidau.ch/es/agenda/show/12556
DTSTART;TZID=Europe/Zurich:20091024T000000
DTEND;TZID=Europe/Zurich:20091024T000000
LOCATION:Petinesca
CATEGORIES:Rotary
END:VEVENT
BEGIN:VTIMEZONE
TZID:Europe/Zurich
BEGIN:DAYLIGHT
DTSTART:20091024T000000
TZNAME:CEST
TZOFFSETTO:+0200
TZOFFSETFROM:+0200
END:DAYLIGHT
END:VTIMEZONE
END:VCALENDAR
