BEGIN:VCALENDAR
PRODID:-//eluceo/ical//2.0/EN
VERSION:2.0
CALSCALE:GREGORIAN
BEGIN:VEVENT
UID:58f56508797a668def77df075ea462ca
DTSTAMP:20260423T092008Z
SUMMARY:Präsenzlunch
DESCRIPTION:
URL:https://rotary-nidau.ch/es/agenda/show/12553
DTSTART;TZID=Europe/Zurich:20091013T115000
DTEND;TZID=Europe/Zurich:20091013T115000
LOCATION:Restaurant / Hotel Worbenbad
CATEGORIES:Rotary
END:VEVENT
BEGIN:VTIMEZONE
TZID:Europe/Zurich
BEGIN:DAYLIGHT
DTSTART:20091013T115000
TZNAME:CEST
TZOFFSETTO:+0200
TZOFFSETFROM:+0200
END:DAYLIGHT
END:VTIMEZONE
END:VCALENDAR
