BEGIN:VCALENDAR
PRODID:-//eluceo/ical//2.0/EN
VERSION:2.0
CALSCALE:GREGORIAN
BEGIN:VEVENT
UID:70fa69bf51c274ee82b9c0f7b358942c
DTSTAMP:20260421T001610Z
SUMMARY:Plauderlunch
DESCRIPTION:
URL:https://rotary-nidau.ch/es/agenda/show/12552
DTSTART;TZID=Europe/Zurich:20091006T115000
DTEND;TZID=Europe/Zurich:20091006T115000
LOCATION:Restaurant / Hotel Worbenbad
CATEGORIES:Rotary
END:VEVENT
BEGIN:VTIMEZONE
TZID:Europe/Zurich
BEGIN:DAYLIGHT
DTSTART:20091006T115000
TZNAME:CEST
TZOFFSETTO:+0200
TZOFFSETFROM:+0200
END:DAYLIGHT
END:VTIMEZONE
END:VCALENDAR
