BEGIN:VCALENDAR
PRODID:-//eluceo/ical//2.0/EN
VERSION:2.0
CALSCALE:GREGORIAN
BEGIN:VEVENT
UID:0c173b6928fc232f29965abd5dae1e76
DTSTAMP:20260421T060107Z
SUMMARY:Bieler Monatstreff
DESCRIPTION:
URL:https://rotary-nidau.ch/es/agenda/show/11825
DTSTART;TZID=Europe/Zurich:20090701T173000
DTEND;TZID=Europe/Zurich:20090701T173000
LOCATION:BaraPlage
CATEGORIES:Rotary
END:VEVENT
BEGIN:VTIMEZONE
TZID:Europe/Zurich
BEGIN:DAYLIGHT
DTSTART:20090701T173000
TZNAME:CEST
TZOFFSETTO:+0200
TZOFFSETFROM:+0200
END:DAYLIGHT
END:VTIMEZONE
END:VCALENDAR
