BEGIN:VCALENDAR
PRODID:-//eluceo/ical//2.0/EN
VERSION:2.0
CALSCALE:GREGORIAN
BEGIN:VEVENT
UID:97f71f7d7722f9f05dcd60ba6983f519
DTSTAMP:20260420T222722Z
SUMMARY:Frühstück Bözingenberg
DESCRIPTION:Alex Sollberger informiert über den Rotary Medienverin CH /FL
URL:https://rotary-nidau.ch/es/agenda/show/11822
DTSTART;TZID=Europe/Zurich:20090818T070000
DTEND;TZID=Europe/Zurich:20090818T070000
LOCATION:Restaurant Bözingenberg
CATEGORIES:Rotary
END:VEVENT
BEGIN:VTIMEZONE
TZID:Europe/Zurich
BEGIN:DAYLIGHT
DTSTART:20090818T070000
TZNAME:CEST
TZOFFSETTO:+0200
TZOFFSETFROM:+0200
END:DAYLIGHT
END:VTIMEZONE
END:VCALENDAR
