BEGIN:VCALENDAR
PRODID:-//eluceo/ical//2.0/EN
VERSION:2.0
CALSCALE:GREGORIAN
BEGIN:VEVENT
UID:edbbc7aae641507ce07e70cdf401f0e4
DTSTAMP:20260422T104343Z
SUMMARY:Luch Surprise
DESCRIPTION:
URL:https://rotary-nidau.ch/es/agenda/show/11821
DTSTART;TZID=Europe/Zurich:20090811T115000
DTEND;TZID=Europe/Zurich:20090811T115000
LOCATION:Restaurant / Hotel Florida
CATEGORIES:Rotary
END:VEVENT
BEGIN:VTIMEZONE
TZID:Europe/Zurich
BEGIN:DAYLIGHT
DTSTART:20090811T115000
TZNAME:CEST
TZOFFSETTO:+0200
TZOFFSETFROM:+0200
END:DAYLIGHT
END:VTIMEZONE
END:VCALENDAR
