BEGIN:VCALENDAR
PRODID:-//eluceo/ical//2.0/EN
VERSION:2.0
CALSCALE:GREGORIAN
BEGIN:VEVENT
UID:ac171c47c16c23e2149b0f0a53ae1aa6
DTSTAMP:20260421T022442Z
SUMMARY:Auswärts- Plauderlunch
DESCRIPTION:
URL:https://rotary-nidau.ch/es/agenda/show/11753
DTSTART;TZID=Europe/Zurich:20090714T115000
DTEND;TZID=Europe/Zurich:20090714T115000
LOCATION:Rest. Waldschenke / St. Niklaus
CATEGORIES:Rotary
END:VEVENT
BEGIN:VTIMEZONE
TZID:Europe/Zurich
BEGIN:DAYLIGHT
DTSTART:20090714T115000
TZNAME:CEST
TZOFFSETTO:+0200
TZOFFSETFROM:+0200
END:DAYLIGHT
END:VTIMEZONE
END:VCALENDAR
