BEGIN:VCALENDAR
PRODID:-//eluceo/ical//2.0/EN
VERSION:2.0
CALSCALE:GREGORIAN
BEGIN:VEVENT
UID:c8b009fd82ca3192b273844381c2c1db
DTSTAMP:20260420T210340Z
SUMMARY:Vortrag 
DESCRIPTION:Klassifikationsvortrag\nOrador(es): Rot. Rudolf Grünig
URL:https://rotary-nidau.ch/es/agenda/show/11747
DTSTART;TZID=Europe/Zurich:20090602T115000
DTEND;TZID=Europe/Zurich:20090602T115000
LOCATION:Restaurant / Hotel Worbenbad
CATEGORIES:Rotary
END:VEVENT
BEGIN:VTIMEZONE
TZID:Europe/Zurich
BEGIN:DAYLIGHT
DTSTART:20090602T115000
TZNAME:CEST
TZOFFSETTO:+0200
TZOFFSETFROM:+0200
END:DAYLIGHT
END:VTIMEZONE
END:VCALENDAR
