BEGIN:VCALENDAR
PRODID:-//eluceo/ical//2.0/EN
VERSION:2.0
CALSCALE:GREGORIAN
BEGIN:VEVENT
UID:45aae8988aa0f699dde904c41f86cb87
DTSTAMP:20260420T174928Z
SUMMARY:Plauderlunch\, Hotel Worbenbad\, Worben
DESCRIPTION:
URL:https://rotary-nidau.ch/es/agenda/show/10670
DTSTART;TZID=Europe/Zurich:20081223T115000
DTEND;TZID=Europe/Zurich:20081223T115000
LOCATION:-
CATEGORIES:Rotary
END:VEVENT
BEGIN:VTIMEZONE
TZID:Europe/Zurich
BEGIN:STANDARD
DTSTART:20081223T115000
TZNAME:CET
TZOFFSETTO:+0100
TZOFFSETFROM:+0100
END:STANDARD
END:VTIMEZONE
END:VCALENDAR
