BEGIN:VCALENDAR
PRODID:-//eluceo/ical//2.0/EN
VERSION:2.0
CALSCALE:GREGORIAN
BEGIN:VEVENT
UID:8c3a5bd2f4611e8d790c473d711e9702
DTSTAMP:20260420T175101Z
SUMMARY:Lunch - Vortrag\, Hotel Worbenbad\, Worben
DESCRIPTION:Lebenslauf Arrigoni M.\nOrador(es): Marco Arrigoni
URL:https://rotary-nidau.ch/es/agenda/show/10669
DTSTART;TZID=Europe/Zurich:20081216T115000
DTEND;TZID=Europe/Zurich:20081216T115000
LOCATION:-
CATEGORIES:Rotary
END:VEVENT
BEGIN:VTIMEZONE
TZID:Europe/Zurich
BEGIN:STANDARD
DTSTART:20081216T115000
TZNAME:CET
TZOFFSETTO:+0100
TZOFFSETFROM:+0100
END:STANDARD
END:VTIMEZONE
END:VCALENDAR
