BEGIN:VCALENDAR
PRODID:-//eluceo/ical//2.0/EN
VERSION:2.0
CALSCALE:GREGORIAN
BEGIN:VEVENT
UID:4049d9b239167336f47acd7ed1d69605
DTSTAMP:20260420T173950Z
SUMMARY:Partneranlass Weihnachtsfeier\, Kirche Seedorf / Hotel Krone Aarber
 g
DESCRIPTION:
URL:https://rotary-nidau.ch/es/agenda/show/10666
DTSTART;TZID=Europe/Zurich:20081211T181500
DTEND;TZID=Europe/Zurich:20081211T181500
LOCATION:-
CATEGORIES:Rotary
END:VEVENT
BEGIN:VTIMEZONE
TZID:Europe/Zurich
BEGIN:STANDARD
DTSTART:20081211T181500
TZNAME:CET
TZOFFSETTO:+0100
TZOFFSETFROM:+0100
END:STANDARD
END:VTIMEZONE
END:VCALENDAR
