BEGIN:VCALENDAR
PRODID:-//eluceo/ical//2.0/EN
VERSION:2.0
CALSCALE:GREGORIAN
BEGIN:VEVENT
UID:c729e80b4904d48fcfb6a779dc60d316
DTSTAMP:20260425T123830Z
SUMMARY:Lunch
DESCRIPTION:
URL:https://rotary-nidau.ch/en/agenda/show/112534
DTSTART;TZID=Europe/Zurich:20200623T115000
DTEND;TZID=Europe/Zurich:20200623T133000
LOCATION:Restaurant Côté Lac / Residenz Au Lac
CATEGORIES:Rotary
END:VEVENT
BEGIN:VTIMEZONE
TZID:Europe/Zurich
BEGIN:DAYLIGHT
DTSTART:20200623T115000
TZNAME:CEST
TZOFFSETTO:+0200
TZOFFSETFROM:+0200
END:DAYLIGHT
END:VTIMEZONE
END:VCALENDAR
