BEGIN:VCALENDAR
PRODID:-//eluceo/ical//2.0/EN
VERSION:2.0
CALSCALE:GREGORIAN
BEGIN:VEVENT
UID:1df7d65a87a9b1ae94acdecb3bfed45a
DTSTAMP:20260425T104627Z
SUMMARY:Stabsübergabe 2020 /  jetzt anmelden - siehe Anhang
DESCRIPTION:Website: http://www.dispo.space
URL:https://rotary-nidau.ch/en/agenda/show/109982
DTSTART;TZID=Europe/Zurich:20200625T180000
DTEND;TZID=Europe/Zurich:20200625T230000
LOCATION:DISPO-Halle\, Nidau
CATEGORIES:Rotary
END:VEVENT
BEGIN:VTIMEZONE
TZID:Europe/Zurich
BEGIN:DAYLIGHT
DTSTART:20200625T180000
TZNAME:CEST
TZOFFSETTO:+0200
TZOFFSETFROM:+0200
END:DAYLIGHT
END:VTIMEZONE
END:VCALENDAR
